BEGIN:VCALENDAR
VERSION:2.0
PRODID:-//Ottawa Falcons - ECPv6.8.2.1//NONSGML v1.0//EN
CALSCALE:GREGORIAN
METHOD:PUBLISH
X-WR-CALNAME:Ottawa Falcons
X-ORIGINAL-URL:https://ottawafalcons.com
X-WR-CALDESC:Events for Ottawa Falcons
REFRESH-INTERVAL;VALUE=DURATION:PT1H
X-Robots-Tag:noindex
X-PUBLISHED-TTL:PT1H
BEGIN:VTIMEZONE
TZID:America/Toronto
BEGIN:DAYLIGHT
TZOFFSETFROM:-0500
TZOFFSETTO:-0400
TZNAME:EDT
DTSTART:20220313T070000
END:DAYLIGHT
BEGIN:STANDARD
TZOFFSETFROM:-0400
TZOFFSETTO:-0500
TZNAME:EST
DTSTART:20221106T060000
END:STANDARD
BEGIN:DAYLIGHT
TZOFFSETFROM:-0500
TZOFFSETTO:-0400
TZNAME:EDT
DTSTART:20230312T070000
END:DAYLIGHT
BEGIN:STANDARD
TZOFFSETFROM:-0400
TZOFFSETTO:-0500
TZNAME:EST
DTSTART:20231105T060000
END:STANDARD
BEGIN:DAYLIGHT
TZOFFSETFROM:-0500
TZOFFSETTO:-0400
TZNAME:EDT
DTSTART:20240310T070000
END:DAYLIGHT
BEGIN:STANDARD
TZOFFSETFROM:-0400
TZOFFSETTO:-0500
TZNAME:EST
DTSTART:20241103T060000
END:STANDARD
TZID:Asia/Karachi
BEGIN:STANDARD
TZOFFSETFROM:+0500
TZOFFSETTO:+0500
TZNAME:PKT
DTSTART:20200101T000000
END:STANDARD
END:VTIMEZONE
BEGIN:VEVENT
DTSTART;TZID=America/Toronto:20241023T190000
DTEND;TZID=America/Toronto:20241023T210000
DTSTAMP:20260422T184017
CREATED:20241003T005027Z
LAST-MODIFIED:20241003T005027Z
UID:6701-1729710000-1729717200@ottawafalcons.com
SUMMARY:Special General Meeting of Oct 23\, 2024
DESCRIPTION:Wednesday\, October 23\, 19:00-21:00\, Black Leaf Room\, Minto Recreational Complex\, Barrahven
URL:https://ottawafalcons.com/event/special-general-meeting-of-oct-23-2024/
LOCATION:Minto Recreation Complex\, 3500 Cambrian Road\, Ottawa\, Ontario\, K2J 0V1\, Canada
END:VEVENT
BEGIN:VEVENT
DTSTART;TZID=America/Toronto:20240130T190000
DTEND;TZID=America/Toronto:20240130T200000
DTSTAMP:20260422T184017
CREATED:20231227T181708Z
LAST-MODIFIED:20240128T211053Z
UID:6579-1706641200-1706644800@ottawafalcons.com
SUMMARY:2024 Annual General Meeting
DESCRIPTION:AGM Agenda 30 Jan 2024\nOttawa Falcons Soccer Club \nNotice of Annual General Meeting \nThe Annual General Notice of the Ottawa Falcon Soccer Club will be held on Tuesday\, January 30th\, 2024\, at 7:00pm. \nThe meeting will be held in the Cambrian Room at the Minto Recreation Complex\, 3500 Cambrian Road\, Ottawa. \nA Call for Nominations for positions on the Board of Directors will be issued shortly.
URL:https://ottawafalcons.com/event/2024-annual-general-meeting/
LOCATION:Minto Recreation Complex\, 3500 Cambrian Road\, Ottawa\, Ontario\, K2J 0V1\, Canada
END:VEVENT
BEGIN:VEVENT
DTSTART;TZID=America/Toronto:20231021T180000
DTEND;TZID=America/Toronto:20231021T220000
DTSTAMP:20260422T184017
CREATED:20230921T232949Z
LAST-MODIFIED:20231017T230441Z
UID:6556-1697911200-1697925600@ottawafalcons.com
SUMMARY:Cancelled ******* 2023 Ottawa Falcons FC - Banquet
DESCRIPTION:Saturday October 21st at the Heart & Crown in Barrhaven. \nWe will have the pub to ourselves from 6-10pm and choice of menu\n$35 / per person includes meal and one free beverage (Beer/wine regular bar spirits). \nRSVP @ Ottawa Falcons’ Banquet – 2023
URL:https://ottawafalcons.com/event/2023-ottawa-falcons-fc-banquet/
LOCATION:Heart and Crown\, 3161 Strandherd Dr.\, Nepean\, Ontario\, K2J5N1\, Canada
END:VEVENT
BEGIN:VEVENT
DTSTART;TZID=America/Toronto:20230914T090000
DTEND;TZID=America/Toronto:20230914T203000
DTSTAMP:20260422T184017
CREATED:20230826T113434Z
LAST-MODIFIED:20230910T153541Z
UID:6540-1694682000-1694723400@ottawafalcons.com
SUMMARY:Cancelled - 2023 Falcons FC - Golf Tournament
DESCRIPTION:DragonFly Golf Club\, Renfrew.\nThursday September 14th 2023\nFirst Tee Time 11am\n18 Holes w Cart and a 1/4 Chicken Dinner $125. \nWe have also have a school bus transport from and to the Royal Oak Barrhaven and the Golf course.\nBus will leave at 9:15am sharp from Barrhaven and leave at 7pm from the Golf Course back to Barrhaven. \nWe have only space for 40 golfers so first come first serve. Once you complete the entry form\, please wait for an email from us to confirm your entry. At which point eTransfer $125 to the Falcons (ottawaFalconsFC@gMail.com)\n2023-golf-tournament Entry Form
URL:https://ottawafalcons.com/event/2023-falcons-fc-golf-tournament/
LOCATION:DragonFly Golf Club\, Renfrew.
END:VEVENT
BEGIN:VEVENT
DTSTART;TZID=America/Toronto:20230131T190000
DTEND;TZID=America/Toronto:20230131T203000
DTSTAMP:20260422T184017
CREATED:20230130T182915Z
LAST-MODIFIED:20230130T190929Z
UID:920-1675191600-1675197000@ottawafalcons.com
SUMMARY:Ottawa Falcons FC - AGM Year in Review 2022
DESCRIPTION:This year’s meeting via a Zoom Meeting at the following link: \nZoom Link \nAgenda PDF
URL:https://ottawafalcons.com/event/ottawa-falcons-fc-agm-year-in-review-2022/
LOCATION:Ontario
END:VEVENT
BEGIN:VEVENT
DTSTART;TZID=America/Toronto:20220524T080000
DTEND;TZID=America/Toronto:20220524T170000
DTSTAMP:20260422T184017
CREATED:20220305T160319Z
LAST-MODIFIED:20220305T160428Z
UID:867-1653379200-1653411600@ottawafalcons.com
SUMMARY:2022 Season Opening Week
DESCRIPTION:Return to Play – Start of the Season Tentative Date
URL:https://ottawafalcons.com/event/2022-season-opening-week/
LOCATION:Ontario
END:VEVENT
BEGIN:VEVENT
DTSTART;TZID=America/Toronto:20220415T080000
DTEND;TZID=America/Toronto:20220415T170000
DTSTAMP:20260422T184017
CREATED:20220305T145528Z
LAST-MODIFIED:20220305T155644Z
UID:841-1650009600-1650042000@ottawafalcons.com
SUMMARY:Recreational Teams Registration
DESCRIPTION:All Recreational Teams must be Registered and Fees paid to the league.
URL:https://ottawafalcons.com/event/recreational-teams/
LOCATION:Ontario
END:VEVENT
BEGIN:VEVENT
DTSTART;VALUE=DATE:20220315
DTEND;VALUE=DATE:20220316
DTSTAMP:20260422T184017
CREATED:20220305T145036Z
LAST-MODIFIED:20220305T145658Z
UID:836-1647302400-1647388799@ottawafalcons.com
SUMMARY:Competitive Teams Registration
DESCRIPTION:Women’s and Men’s Competitive Teams must be Registered and Team Fee Paid with the League.
URL:https://ottawafalcons.com/event/competitive-teams-registration/
LOCATION:Ontario
END:VEVENT
BEGIN:VEVENT
DTSTART;TZID=Asia/Karachi:20200113T190000
DTEND;TZID=Asia/Karachi:20200113T210000
DTSTAMP:20260422T184017
CREATED:20200109T071402Z
LAST-MODIFIED:20200109T071402Z
UID:157-1578942000-1578949200@ottawafalcons.com
SUMMARY:Ottawa Falcons Soccer Club - AGM
DESCRIPTION:Annual General Meeting to be held
URL:https://ottawafalcons.com/event/ottawa-falcons-soccer-club-agm/
LOCATION:The Royal Oak
END:VEVENT
END:VCALENDAR