BEGIN:VCALENDAR
VERSION:2.0
PRODID:-//Ottawa Falcons - ECPv6.8.2.1//NONSGML v1.0//EN
CALSCALE:GREGORIAN
METHOD:PUBLISH
X-ORIGINAL-URL:https://ottawafalcons.com
X-WR-CALDESC:Events for Ottawa Falcons
REFRESH-INTERVAL;VALUE=DURATION:PT1H
X-Robots-Tag:noindex
X-PUBLISHED-TTL:PT1H
BEGIN:VTIMEZONE
TZID:America/Toronto
BEGIN:DAYLIGHT
TZOFFSETFROM:-0500
TZOFFSETTO:-0400
TZNAME:EDT
DTSTART:20240310T070000
END:DAYLIGHT
BEGIN:STANDARD
TZOFFSETFROM:-0400
TZOFFSETTO:-0500
TZNAME:EST
DTSTART:20241103T060000
END:STANDARD
END:VTIMEZONE
BEGIN:VEVENT
DTSTART;TZID=America/Toronto:20240130T190000
DTEND;TZID=America/Toronto:20240130T200000
DTSTAMP:20260424T030031
CREATED:20231227T181708Z
LAST-MODIFIED:20240128T211053Z
UID:6579-1706641200-1706644800@ottawafalcons.com
SUMMARY:2024 Annual General Meeting
DESCRIPTION:AGM Agenda 30 Jan 2024\nOttawa Falcons Soccer Club \nNotice of Annual General Meeting \nThe Annual General Notice of the Ottawa Falcon Soccer Club will be held on Tuesday\, January 30th\, 2024\, at 7:00pm. \nThe meeting will be held in the Cambrian Room at the Minto Recreation Complex\, 3500 Cambrian Road\, Ottawa. \nA Call for Nominations for positions on the Board of Directors will be issued shortly.
URL:https://ottawafalcons.com/event/2024-annual-general-meeting/
LOCATION:Minto Recreation Complex\, 3500 Cambrian Road\, Ottawa\, Ontario\, K2J 0V1\, Canada
END:VEVENT
BEGIN:VEVENT
DTSTART;TZID=America/Toronto:20241023T190000
DTEND;TZID=America/Toronto:20241023T210000
DTSTAMP:20260424T030031
CREATED:20241003T005027Z
LAST-MODIFIED:20241003T005027Z
UID:6701-1729710000-1729717200@ottawafalcons.com
SUMMARY:Special General Meeting of Oct 23\, 2024
DESCRIPTION:Wednesday\, October 23\, 19:00-21:00\, Black Leaf Room\, Minto Recreational Complex\, Barrahven
URL:https://ottawafalcons.com/event/special-general-meeting-of-oct-23-2024/
LOCATION:Minto Recreation Complex\, 3500 Cambrian Road\, Ottawa\, Ontario\, K2J 0V1\, Canada
END:VEVENT
END:VCALENDAR