BEGIN:VCALENDAR
VERSION:2.0
PRODID:-//Ottawa Falcons - ECPv6.8.2.1//NONSGML v1.0//EN
CALSCALE:GREGORIAN
METHOD:PUBLISH
X-WR-CALNAME:Ottawa Falcons
X-ORIGINAL-URL:https://ottawafalcons.com
X-WR-CALDESC:Events for Ottawa Falcons
REFRESH-INTERVAL;VALUE=DURATION:PT1H
X-Robots-Tag:noindex
X-PUBLISHED-TTL:PT1H
BEGIN:VTIMEZONE
TZID:America/Toronto
BEGIN:DAYLIGHT
TZOFFSETFROM:-0500
TZOFFSETTO:-0400
TZNAME:EDT
DTSTART:20230312T070000
END:DAYLIGHT
BEGIN:STANDARD
TZOFFSETFROM:-0400
TZOFFSETTO:-0500
TZNAME:EST
DTSTART:20231105T060000
END:STANDARD
END:VTIMEZONE
BEGIN:VEVENT
DTSTART;TZID=America/Toronto:20230914T090000
DTEND;TZID=America/Toronto:20230914T203000
DTSTAMP:20260424T054356
CREATED:20230826T113434Z
LAST-MODIFIED:20230910T153541Z
UID:6540-1694682000-1694723400@ottawafalcons.com
SUMMARY:Cancelled - 2023 Falcons FC - Golf Tournament
DESCRIPTION:DragonFly Golf Club\, Renfrew.\nThursday September 14th 2023\nFirst Tee Time 11am\n18 Holes w Cart and a 1/4 Chicken Dinner $125. \nWe have also have a school bus transport from and to the Royal Oak Barrhaven and the Golf course.\nBus will leave at 9:15am sharp from Barrhaven and leave at 7pm from the Golf Course back to Barrhaven. \nWe have only space for 40 golfers so first come first serve. Once you complete the entry form\, please wait for an email from us to confirm your entry. At which point eTransfer $125 to the Falcons (ottawaFalconsFC@gMail.com)\n2023-golf-tournament Entry Form
URL:https://ottawafalcons.com/event/2023-falcons-fc-golf-tournament/
LOCATION:DragonFly Golf Club\, Renfrew.
END:VEVENT
END:VCALENDAR